Workbook

Sheet Bao Cao 2015
C1: TRÖÔØNG CAO ÑẲNG KỸ THUẬT COÄNG HOØA XAÕ HOÄI CHUÛ NGHÓA VIEÄT NAM
C2: LYÙ TÖÏ TROÏNG TP.HỒ CHÍ MINH Ñoäc laäp – Töï do – Haïnh phuùc
C3: PHÒNG TS-ĐÀO TẠO-GTVL
C4: BÁO CÁO SỐ LƯỢNG HỒ SƠ TUYỂN SINH 2015
C5: (Tính đến ngày 17/9/2015)
B7: STT | C7: Bậc Đào Tạo | D7: Hồ sơ | E7: Ghi chú
B8: 1 | C8: Đại học Vừa làm Vừa học | D8: 0
B9: 2 | C9: Cao đẳng chuyên nghiệp & Cao đẳng Tiên tiến | D9: ='Chi tiết 2015'!E9 -> 3757
B10: 3 | C10: Cao đẳng nghề chính quy ( 12+3 ) | D10: ='Chi tiết 2015'!F9 -> 300
B11: 4 | C11: Cao đẳng nghề chính quy ( 9+4 ) | D11: ='Chi tiết 2015'!G9 -> 541
B12: 5 | C12: Trung cấp chuyên nghiệp ( 9+3 ) | D12: ='Chi tiết 2015'!H9 -> 203
B13: 6 | C13: Liên thông Cao đẳng nghề | D13: ='Chi tiết 2015'!C9 -> 6
B14: 7 | C14: Trung cấp chuyên nghiệp (2 năm 3 tháng) | D14: ='Chi tiết 2015'!I9 -> 208
B15: 8 | C15: Trung cấp chuyên nghiệp (12+2) | D15: ='Chi tiết 2015'!J9 -> 90
B16: Tổng cộng | D16: =SUM(D8:D15) -> 5105
E17: TP. TS-ĐÀO TẠO-GTVL
E23: Nguyễn Văn Tấn

Sheet Chi tiết 2015
B5: Đợt 3 | K5: 35185
B6: Đợt 2 | E6: 1423 | F6: 107 | G6: 202 | H6: 86 | I6: 49 | J6: 15
B7: Đợt 1 | E7: 154 | F7: 11 | G7: 269 | H7: 45
C9: =SUM(C56:C130) -> 6 | D9: =SUM(D11:D130) -> 0 | E9: =SUM(E11:E135) -> 3757 | F9: =SUM(F11:F135) -> 300 | G9: =SUM(G11:G135) -> 541 | H9: =SUM(H11:H135) -> 203 | I9: =SUM(I69:I135) -> 208 | J9: =SUM(J69:J135) -> 90 | K9: =SUM(C9:J9) -> 5105
B10: Ngày | C10: LT CĐN | D10: ĐHVLVH | E10: CĐCN&TT | F10: CĐN(12+3) | G10: CĐN(9+4) | H10: TCCN | I10: TCCN 2N3 | J10: TCCN 12+2 | K10: =Q125+Q126+Q127 -> 3262
B11: 42158 | D11: 0 | E11: 36 | F11: 4 | G11: 15 | H11: 1
B12: 42159 | E12: 2 | G12: 3
B13: 42160 | E13: 1
B14: 42161 | H14: 1
B15: 42162 | D15: chu nhat
B16: 42163 | G16: 4 | H16: 2
B17: 42164 | G17: 5
B18: 42165 | E18: 2 | G18: 4
B19: 42166 | E19: 1 | F19: 1 | G19: 4 | H19: 1
B20: 42167 | G20: 3 | H20: 1
B21: 42168 | G21: 2
B22: 42169 | D22: chu nhat
B23: 42170 | G23: 5
B24: 42171 | G24: 4
B25: 42172 | E25: 1 | G25: 6
B26: 42173 | E26: 8 | G26: 5
B27: 42174 | E27: 2
B28: 42175 | G28: 1
B29: 42176 | D29: chu nhat
B30: 42177 | E30: 2 | G30: 2 | H30: 1
B31: 42178 | E31: 3 | G31: 8
B32: 42179 | E32: 2 | G32: 1
B33: 42180 | G33: 4
B34: 42181 | G34: 13 | H34: 1
B35: 42182 | G35: 2 | H35: 1
B36: 42183 | D36: chu nhat
B37: 42184 | E37: 4 | F37: 1 | G37: 13 | H37: 1
B38: 42185 | E38: 3 | G38: 5
B39: 42186 | E39: 4 | G39: 15
B40: 42187 | G40: 3
B41: 42188
B42: 42189
B43: 42190 | G43: 9
B44: 42191
B45: 42192
...

Sheet Bao Cao 2016
C1: TRÖÔØNG CAO ÑẲNG KỸ THUẬT COÄNG HOØA XAÕ HOÄI CHUÛ NGHÓA VIEÄT NAM
C2: LYÙ TÖÏ TROÏNG TP.HỒ CHÍ MINH Ñoäc laäp – Töï do – Haïnh phuùc
C3: PHÒNG TS-ĐÀO TẠO-GTVL
C4: BÁO CÁO SỐ LƯỢNG HỒ SƠ TUYỂN SINH 2016
C5: (Tính đến ngày 23/6/2016)
B7: STT | C7: Bậc Đào Tạo | D7: Hồ sơ | E7: Ghi chú
B8: 1 | C8: Đại học Vừa làm Vừa học | D8: ='Chi tiết 2016'!D5 -> 0
B9: 2 | C9: Cao đẳng chuyên nghiệp & Cao đẳng Tiên tiến | D9: ='Chi tiết 2016'!E5 -> 45
B10: 3 | C10: Cao đẳng nghề chính quy ( 12+3 ) | D10: ='Chi tiết 2016'!F5 -> 9
B11: 4 | C11: Cao đẳng nghề chính quy ( 9+4 ) | D11: ='Chi tiết 2016'!G5 -> 157
B12: 5 | C12: Trung cấp chuyên nghiệp ( 9+3 ) | D12: ='Chi tiết 2016'!H5 -> 77
B13: 6 | C13: Liên thông Cao đẳng nghề | D13: ='Chi tiết 2016'!C5 -> 0
B14: 7 | C14: Trung cấp chuyên nghiệp (2 năm 3 tháng) | D14: ='Chi tiết 2016'!I5 -> 0
B15: 8 | C15: Trung cấp chuyên nghiệp (12+2) | D15: ='Chi tiết 2016'!J5 -> 7
B16: Tổng cộng | D16: =SUM(D8:D15) -> 295
E17: TP. TS-ĐÀO TẠO-GTVL
E22: Nguyễn Văn Tấn

Sheet Chi tiết 2016
B1: Đợt 3 | K1: 35185
B2: Đợt 2
B3: Đợt 1
C5: =SUM(C7:C126) -> 0 | D5: =SUM(D7:D126) -> 0 | E5: =SUM(E7:E126) -> 45 | F5: =SUM(F7:F126) -> 9 | G5: =SUM(G7:G126) -> 157 | H5: =SUM(H7:H126) -> 77 | I5: =SUM(I7:I126) -> 0 | J5: =SUM(J7:J126) -> 7 | K5: =SUM(C5:J5) -> 295
B6: Ngày | C6: LT CĐN | D6: ĐHVLVH | E6: CĐCN | F6: CĐN(12+3) | G6: CĐN(9+4) | H6: TCCN (9+3) | I6: TCCN 2N3 | J6: TCCN (12+2) | K6: =Q121+Q122+Q123 -> 0
B7: 42522 | E7: 28 | F7: 4 | G7: 19 | H7: 9 | I7: 0 | J7: 3
B8: 42523 | E8: 1 | F8: 0 | G8: 7 | H8: 4 | I8: 0 | J8: 0
B9: 42524 | E9: 1 | G9: 2 | H9: 1 | I9: 0
B10: 42525 | E10: 0 | F10: 0 | G10: 2 | H10: 1 | I10: 0 | J10: 1
B11: 42526 | C11: chủ nhật nghỉ
B12: 42527 | E12: 3 | F12: 0 | G12: 7 | H12: 8 | I12: 0 | J12: 0
B13: 42528 | E13: 1 | F13: 0 | G13: 21 | H13: 2 | I13: 0 | J13: 2
B14: 42529 | E14: 0 | F14: 0 | G14: 9 | H14: 3 | I14: 0 | J14: 0
B15: 42530 | E15: 0 | F15: 0 | G15: 5 | H15: 2 | I15: 0 | J15: 0
B16: 42531 | E16: 0 | F16: 0 | G16: 3 | H16: 0 | I16: 0 | J16: 0
B17: 42532 | E17: 0 | F17: 0 | G17: 1 | H17: 0 | I17: 0 | J17: 0
B18: 42533 | C18: chủ nhật nghỉ
B19: 42534 | E19: 0 | F19: 3 | G19: 4 | H19: 4 | I19: 0 | J19: 0
B20: 42535 | E20: 0 | F20: 1 | G20: 1 | H20: 2 | I20: 0 | J20: 0
B21: 42536 | E21: 3 | F21: 0 | G21: 19 | H21: 8 | I21: 0 | J21: 0
B22: 42537 | E22: 4 | F22: 0 | G22: 11 | H22: 4 | I22: 0 | J22: 0
B23: 42538 | E23: 3 | F23: 0 | G23: 7 | H23: 3 | I23: 0 | J23: 0
B24: 42539 | E24: 0 | F24: 0 | G24: 1 | H24: 0 | I24: 0 | J24: 0
B25: 42540
B26: 42541 | E26: 0 | F26: 0 | G26: 7 | H26: 4 | I26: 0 | J26: 1
B27: 42542 | E27: 1 | F27: 0 | G27: 10 | H27: 5 | I27: 0 | J27: 0
B28: 42543 | E28: 0 | F28: 1 | G28: 8 | H28: 9 | I28: 0 | J28: 0
B29: 42544 | E29: 0 | F29: 0 | G29: 13 | H29: 8 | I29: 0 | J29: 0
B30: 42545
B31: 42546
B32: 42547
B33: 42548
B34: 42549
B35: 42550
B36: 42551
B37: 42552
B38: 42553
B39: 42554
B40: 42555
B41: 42556
...

Sheet Bao Cao 2017
C3: PHÒNG TUYỂN SINH - ĐÀO TẠO
C4: BÁO CÁO SỐ LƯỢNG HỒ SƠ TUYỂN SINH 2017
C5: (Tính hết ngày 08/7/2017)
B7: STT | C7: Bậc Đào Tạo | D7: Trúng tuyển | E7: Nhập học | F7: Ghi chú
B8: 1 | C8: Cao đẳng | D8: 224 | E8: ='Chi tiết 2017'!C2 -> 89
B9: 2 | C9: Trung cấp chính quy 1 năm | D9: 2 | E9: ='Chi tiết 2017'!D2 -> 1
B10: 3 | C10: Trung cấp chính quy 1 năm 3 tháng | D10: 13 | E10: ='Chi tiết 2017'!E2 -> 8
B11: 4 | C11: Trung cấp chính quy 1,5 năm | D11: 5 | E11: ='Chi tiết 2017'!F2 -> 2
B12: 5 | C12: Trung cấp chính quy 3 năm | D12: 812 | E12: ='Chi tiết 2017'!G2 -> 608
B13: Tổng cộng | D13: =SUM(D8:D12) -> 1056 | E13: =SUM(E8:E12) -> 708
F14: PHỤ TRÁCH PHÒNG TS-ĐT
F19: Hồ Văn Sĩ

Sheet Chi tiết 2017
C2: =SUM(C4:C110) -> 89 | D2: =SUM(D4:D110) -> 1 | E2: =SUM(E4:E110) -> 8 | F2: =SUM(F4:F110) -> 2 | G2: =SUM(G4:G110) -> 608 | H2: =SUM(C2:G2) -> 708
B3: Ngày | C3: Cao đẳng | D3: Trung cấp 1N | E3: Trung cấp 1N3 | F3: Trung cấp 1,5N | G3: Trung cấp 3N | H3: =N105+N106+N107 -> 0
B4: 42535 | C4: 0 | D4: 0 | E4: 0 | F4: 0 | G4: 6
B5: 42536 | C5: 1 | D5: 0 | E5: 0 | F5: 0 | G5: 39
B6: 42537 | C6: 3 | D6: 0 | E6: 1 | F6: 0 | G6: 16
B7: 42538 | C7: 0 | D7: 0 | E7: 0 | F7: 0 | G7: 3
B8: 42539
B9: 42540 | C9: 5 | D9: 0 | E9: 0 | F9: 0 | G9: 55
B10: 42541 | C10: 0 | D10: 0 | E10: 1 | F10: 0 | G10: 35
B11: 42542
B12: 42543 | C12: 7 | D12: 0 | E12: 0 | F12: 0 | G12: 53
B13: 42544 | C13: 4 | D13: 0 | E13: 0 | F13: 0 | G13: 28
B14: 42545 | C14: 2 | D14: 0 | E14: 0 | F14: 0 | G14: 12
B15: 42546
B16: 42547 | C16: 5 | D16: 0 | E16: 1 | F16: 1 | G16: 37
B17: 42548 | C17: 4 | D17: 0 | E17: 1 | F17: 0 | G17: 23
B18: 42549 | C18: 7 | D18: 0 | E18: 0 | F18: 0 | G18: 30
B19: 42550 | C19: 4 | D19: 0 | E19: 0 | F19: 0 | G19: 23
B20: 42551
B21: 42552 | C21: 11 | D21: 0 | E21: 1 | F21: 1 | G21: 23
B22: 42553
B23: 42554
B24: 42555 | C24: 17 | D24: 0 | E24: 2 | F24: 0 | G24: 100
B25: 42556 | C25: 3 | D25: 0 | E25: 0 | F25: 0 | G25: 39
B26: 42557 | C26: 5 | D26: 0 | E26: 0 | F26: 0 | G26: 47
B27: 42558 | C27: 4 | D27: 0 | E27: 1 | F27: 0 | G27: 31
B28: 42559 | C28: 7 | D28: 1 | E28: 0 | F28: 0 | G28: 8
B29: 42560
B30: 42561
B31: 42562
B32: 42563
B33: 42564
B34: 42565
B35: 42566
B36: 42567
B37: 42568
B38: 42569
B39: 42570
B40: 42571
... B104: 42635
...
