Workbook

Sheet Bao Cao 2015
C1: TRÖÔØNG CAO ÑẲNG KỸ THUẬT COÄNG HOØA XAÕ HOÄI CHUÛ NGHÓA VIEÄT NAM
C2: LYÙ TÖÏ TROÏNG TP.HỒ CHÍ MINH Ñoäc laäp – Töï do – Haïnh phuùc
C3: PHÒNG TS-ĐÀO TẠO-GTVL
C4: BÁO CÁO SỐ LƯỢNG HỒ SƠ TUYỂN SINH 2015
C5: (Tính đến ngày 17/9/2015)
B7: STT | C7: Bậc Đào Tạo | D7: Hồ sơ | E7: Ghi chú
B8: 1 | C8: Đại học Vừa làm Vừa học | D8: 0
B9: 2 | C9: Cao đẳng chuyên nghiệp & Cao đẳng Tiên tiến | D9: ='Chi tiết 2015'!E9 -> 3757
B10: 3 | C10: Cao đẳng nghề chính quy ( 12+3 ) | D10: ='Chi tiết 2015'!F9 -> 300
B11: 4 | C11: Cao đẳng nghề chính quy ( 9+4 ) | D11: ='Chi tiết 2015'!G9 -> 541
B12: 5 | C12: Trung cấp chuyên nghiệp ( 9+3 ) | D12: ='Chi tiết 2015'!H9 -> 203
B13: 6 | C13: Liên thông Cao đẳng nghề | D13: ='Chi tiết 2015'!C9 -> 6
B14: 7 | C14: Trung cấp chuyên nghiệp (2 năm 3 tháng) | D14: ='Chi tiết 2015'!I9 -> 208
B15: 8 | C15: Trung cấp chuyên nghiệp (12+2) | D15: ='Chi tiết 2015'!J9 -> 90
B16: Tổng cộng | D16: =SUM(D8:D15) -> 5105
E17: TP. TS-ĐÀO TẠO-GTVL
E23: Nguyễn Văn Tấn

Sheet Chi tiết 2015
B5: Đợt 3 | K5: 35185
B6: Đợt 2 | E6: 1423 | F6: 107 | G6: 202 | H6: 86 | I6: 49 | J6: 15
B7: Đợt 1 | E7: 154 | F7: 11 | G7: 269 | H7: 45
C9: =SUM(C56:C130) -> 6 | D9: =SUM(D11:D130) -> 0 | E9: =SUM(E11:E135) -> 3757 | F9: =SUM(F11:F135) -> 300 | G9: =SUM(G11:G135) -> 541 | H9: =SUM(H11:H135) -> 203 | I9: =SUM(I69:I135) -> 208 | J9: =SUM(J69:J135) -> 90 | K9: =SUM(C9:J9) -> 5105
B10: Ngày | C10: LT CĐN | D10: ĐHVLVH | E10: CĐCN&TT | F10: CĐN(12+3) | G10: CĐN(9+4) | H10: TCCN | I10: TCCN 2N3 | J10: TCCN 12+2 | K10: =Q125+Q126+Q127 -> 3262
B11: 42158 | D11: 0 | E11: 36 | F11: 4 | G11: 15 | H11: 1
B12: 42159 | E12: 2 | G12: 3
B13: 42160 | E13: 1
B14: 42161 | H14: 1
B15: 42162 | D15: chu nhat
B16: 42163 | G16: 4 | H16: 2
B17: 42164 | G17: 5
B18: 42165 | E18: 2 | G18: 4
B19: 42166 | E19: 1 | F19: 1 | G19: 4 | H19: 1
B20: 42167 | G20: 3 | H20: 1
B21: 42168 | G21: 2
B22: 42169 | D22: chu nhat
B23: 42170 | G23: 5
B24: 42171 | G24: 4
B25: 42172 | E25: 1 | G25: 6
B26: 42173 | E26: 8 | G26: 5
B27: 42174 | E27: 2
B28: 42175 | G28: 1
B29: 42176 | D29: chu nhat
B30: 42177 | E30: 2 | G30: 2 | H30: 1
B31: 42178 | E31: 3 | G31: 8
B32: 42179 | E32: 2 | G32: 1
B33: 42180 | G33: 4
B34: 42181 | G34: 13 | H34: 1
B35: 42182 | G35: 2 | H35: 1
B36: 42183 | D36: chu nhat
B37: 42184 | E37: 4 | F37: 1 | G37: 13 | H37: 1
B38: 42185 | E38: 3 | G38: 5
B39: 42186 | E39: 4 | G39: 15
B40: 42187 | G40: 3
B41: 42188
B42: 42189
B43: 42190 | G43: 9
B44: 42191
B45: 42192
B46: 42193 | E46: 16 | F46: 1 | G46: 32 | H46: 1
B47: 42194 | E47: 7 | G47: 2 | H47: 6
B48: 42195
B49: 42196
B50: 42197 | D50: chu nhat
B51: 42198 | E51: 56 | F51: 5 | G51: 77 | H51: 15
B52: 42199 | E52: 4 | F52: 1 | G52: 40 | H52: 24
B53: 42200 | G53: 31 | H53: 12
B54: 42201 | E54: 1 | G54: 19 | H54: 7
B55: 42202 | E55: 3 | G55: 16 | H55: 11
B56: 42203 | C56: 3 | G56: 6 | H56: 2
B57: 42204 | H57: 1
B58: 42205 | E58: 29 | F58: 1 | G58: 24 | H58: 6
B59: 42206 | E59: 8 | F59: 1 | G59: 18 | H59: 6
B60: 42207 | E60: 8 | F60: 3 | G60: 7 | H60: 4
B61: 42208 | E61: 53 | F61: 4 | G61: 6 | H61: 10
B62: 42209 | E62: 26 | F62: 6 | G62: 1
B63: 42210
B64: 42211 | C64: chu nhat
B65: 42212 | E65: 101 | F65: 16 | G65: 13 | H65: 4
B66: 42213 | E66: 62 | F66: 9 | G66: 8 | H66: 1
B67: 42214 | E67: 81 | F67: 7 | G67: 3 | H67: 2
B68: 42215 | E68: 119 | H68: 4
B69: 42216 | E69: 80 | F69: 9 | G69: 10 | H69: 5 | I69: 15 | J69: 0
B70: 42217 | E70: 145 | F70: 7 | G70: 2 | H70: 0 | I70: 3 | J70: 0
B71: 42218 | E71: 41 | F71: 0 | G71: 0 | H71: 0 | I71: 0 | J71: 0
B72: 42219 | E72: 136 | F72: 5 | G72: 8 | H72: 7 | I72: 6 | J72: 4
B73: 42220 | E73: 200 | F73: 10
B74: 42221 | E74: 215 | F74: 19 | G74: 8 | H74: 8 | I74: 21 | J74: 8
B75: 42222 | E75: 114 | F75: 10 | G75: 2 | H75: 1 | I75: 12 | J75: 2
B76: 42223 | E76: 70 | F76: 1 | G76: 3 | H76: 1 | I76: 10 | J76: 1
B77: 42224 | E77: 87 | F77: 1 | G77: 0 | H77: 1 | I77: 6 | J77: 0
B78: 42225 | E78: 46 | F78: 9 | G78: 0 | H78: 0 | I78: 2 | J78: 0
B79: 42226 | E79: 149 | F79: 2 | G79: 3 | H79: 3 | I79: 2 | J79: 2
B80: 42227 | E80: 53
B81: 42228 | E81: 110 | F81: 16 | G81: 6 | H81: 1 | I81: 9 | J81: 2
B82: 42229 | E82: 68 | F82: 3 | G82: 1 | H82: 1 | I82: 8 | J82: 3
B83: 42230 | E83: 107 | F83: 8 | G83: 2 | H83: 5 | I83: 9 | J83: 1
B84: 42231 | E84: 69 | F84: 5 | G84: 3 | H84: 0 | I84: 4 | J84: 0
B85: 42232 | E85: 38 | F85: 5 | G85: 4 | H85: 1 | I85: 5 | J85: 0
B86: 42233 | E86: 65 | F86: 4 | G86: 1 | H86: 1 | I86: 1 | J86: 3
B87: 42234 | E87: 13 | F87: 5 | G87: 0 | H87: 1 | I87: 2 | J87: 0
B88: 42235 | E88: 65 | F88: 15 | G88: 1 | H88: 4 | I88: 6 | J88: 0
B89: 42236 | E89: 85 | F89: 0 | G89: 4 | H89: 1 | I89: 6 | J89: 0
B90: 42237 | E90: 14 | F90: 1 | G90: 1 | H90: 1 | I90: 4 | J90: 1 | K90: 2478 | N90: =K10-K90 -> 784
B91: 42238 | E91: 29 | F91: 5 | G91: 1 | H91: 1 | I91: 4 | J91: 0
B92: 42239
B93: 42240 | E93: 70 | F93: 0 | G93: 5 | H93: 1 | I93: 10 | J93: 0
B94: 42241 | E94: 76 | F94: 5 | G94: 3 | H94: 0 | I94: 1 | J94: 0
B95: 42242 | E95: 155 | F95: 6 | G95: 2 | H95: 2 | I95: 1 | J95: 1
B96: 42243 | E96: 70 | F96: 3 | G96: 1 | H96: 1 | I96: 1 | J96: 1
B97: 42244 | E97: 90 | F97: 1 | G97: 0 | H97: 1 | I97: 2 | J97: 1
B98: 42245
B99: 42246
B100: 42247 | E100: 111 | F100: 2 | G100: 1 | H100: 1 | I100: 3 | J100: 4
B101: 42248 | E101: 30 | F101: 2 | G101: 0 | H101: 0 | I101: 1 | J101: 1
B102: 42249 | H102: nghi le
B103: 42250 | E103: 15 | F103: 1 | G103: 1 | H103: 1 | I103: 3 | J103: 1
B104: 42251 | E104: 36 | F104: 5 | G104: 0 | H104: 1 | I104: 2 | J104: 2
B105: 42252
...

Sheet Bao Cao 2016
C1: TRÖÔØNG CAO ÑẲNG KỸ THUẬT COÄNG HOØA XAÕ HOÄI CHUÛ NGHÓA VIEÄT NAM
C2: LYÙ TÖÏ TROÏNG TP.HỒ CHÍ MINH Ñoäc laäp – Töï do – Haïnh phuùc
C3: PHÒNG TS-ĐÀO TẠO-GTVL
C4: BÁO CÁO SỐ LƯỢNG HỒ SƠ TUYỂN SINH 2016
C5: (Tính đến ngày 23/6/2016)
B7: STT | C7: Bậc Đào Tạo | D7: Hồ sơ | E7: Ghi chú
B8: 1 | C8: Đại học Vừa làm Vừa học | D8: ='Chi tiết 2016'!D5 -> 0
B9: 2 | C9: Cao đẳng chuyên nghiệp & Cao đẳng Tiên tiến | D9: ='Chi tiết 2016'!E5 -> 45
B10: 3 | C10: Cao đẳng nghề chính quy ( 12+3 ) | D10: ='Chi tiết 2016'!F5 -> 9
B11: 4 | C11: Cao đẳng nghề chính quy ( 9+4 ) | D11: ='Chi tiết 2016'!G5 -> 157
B12: 5 | C12: Trung cấp chuyên nghiệp ( 9+3 ) | D12: ='Chi tiết 2016'!H5 -> 77
B13: 6 | C13: Liên thông Cao đẳng nghề | D13: ='Chi tiết 2016'!C5 -> 0
B14: 7 | C14: Trung cấp chuyên nghiệp (2 năm 3 tháng) | D14: ='Chi tiết 2016'!I5 -> 0
B15: 8 | C15: Trung cấp chuyên nghiệp (12+2) | D15: ='Chi tiết 2016'!J5 -> 7
B16: Tổng cộng | D16: =SUM(D8:D15) -> 295
E17: TP. TS-ĐÀO TẠO-GTVL
E22: Nguyễn Văn Tấn

Sheet Chi tiết 2016
B1: Đợt 3 | K1: 35185
B2: Đợt 2
B3: Đợt 1
C5: =SUM(C7:C126) -> 0 | D5: =SUM(D7:D126) -> 0 | E5: =SUM(E7:E126) -> 45 | F5: =SUM(F7:F126) -> 9 | G5: =SUM(G7:G126) -> 157 | H5: =SUM(H7:H126) -> 77 | I5: =SUM(I7:I126) -> 0 | J5: =SUM(J7:J126) -> 7 | K5: =SUM(C5:J5) -> 295
B6: Ngày | C6: LT CĐN | D6: ĐHVLVH | E6: CĐCN | F6: CĐN(12+3) | G6: CĐN(9+4) | H6: TCCN (9+3) | I6: TCCN 2N3 | J6: TCCN (12+2) | K6: =Q121+Q122+Q123 -> 0
B7: 42522 | E7: 28 | F7: 4 | G7: 19 | H7: 9 | I7: 0 | J7: 3
B8: 42523 | E8: 1 | F8: 0 | G8: 7 | H8: 4 | I8: 0 | J8: 0
B9: 42524 | E9: 1 | G9: 2 | H9: 1 | I9: 0
B10: 42525 | E10: 0 | F10: 0 | G10: 2 | H10: 1 | I10: 0 | J10: 1
B11: 42526 | C11: chủ nhật nghỉ
B12: 42527 | E12: 3 | F12: 0 | G12: 7 | H12: 8 | I12: 0 | J12: 0
B13: 42528 | E13: 1 | F13: 0 | G13: 21 | H13: 2 | I13: 0 | J13: 2
B14: 42529 | E14: 0 | F14: 0 | G14: 9 | H14: 3 | I14: 0 | J14: 0
B15: 42530 | E15: 0 | F15: 0 | G15: 5 | H15: 2 | I15: 0 | J15: 0
B16: 42531 | E16: 0 | F16: 0 | G16: 3 | H16: 0 | I16: 0 | J16: 0
B17: 42532 | E17: 0 | F17: 0 | G17: 1 | H17: 0 | I17: 0 | J17: 0
B18: 42533 | C18: chủ nhật nghỉ
B19: 42534 | E19: 0 | F19: 3 | G19: 4 | H19: 4 | I19: 0 | J19: 0
B20: 42535 | E20: 0 | F20: 1 | G20: 1 | H20: 2 | I20: 0 | J20: 0
B21: 42536 | E21: 3 | F21: 0 | G21: 19 | H21: 8 | I21: 0 | J21: 0
B22: 42537 | E22: 4 | F22: 0 | G22: 11 | H22: 4 | I22: 0 | J22: 0
B23: 42538 | E23: 3 | F23: 0 | G23: 7 | H23: 3 | I23: 0 | J23: 0
B24: 42539 | E24: 0 | F24: 0 | G24: 1 | H24: 0 | I24: 0 | J24: 0
B25: 42540
B26: 42541 | E26: 0 | F26: 0 | G26: 7 | H26: 4 | I26: 0 | J26: 1
B27: 42542 | E27: 1 | F27: 0 | G27: 10 | H27: 5 | I27: 0 | J27: 0
B28: 42543 | E28: 0 | F28: 1 | G28: 8 | H28: 9 | I28: 0 | J28: 0
B29: 42544 | E29: 0 | F29: 0 | G29: 13 | H29: 8 | I29: 0 | J29: 0
B30: 42545
B31: 42546
B32: 42547
B33: 42548
B34: 42549
B35: 42550
B36: 42551
B37: 42552
B38: 42553
B39: 42554
B40: 42555
B41: 42556
... B120: 42635
B121: 42636 | L121: CDCN | P121: Đợt 1NH
B122: 42637 | L122: 12+3 | P122: Đợt 2NH
B123: 42638 | L123: 9+4 | P123: Đợt 3NH
B124: 42639 | L124: 9+3
B125: 42640 | L125: 12+2.3
B126: 42641 | L126: 12+2
B127: 42642
B128: 42643
B129: 42644
B130: 42645
B131: 42646

Sheet Bao Cao 2017
C3: PHÒNG TUYỂN SINH - ĐÀO TẠO
C4: BÁO CÁO SỐ LƯỢNG HỒ SƠ TUYỂN SINH 2017
C5: (Tính hết ngày 08/7/2017)
B7: STT | C7: Bậc Đào Tạo | D7: Trúng tuyển | E7: Nhập học | F7: Ghi chú
B8: 1 | C8: Cao đẳng | D8: 224 | E8: ='Chi tiết 2017'!C2 -> 89
B9: 2 | C9: Trung cấp chính quy 1 năm | D9: 2 | E9: ='Chi tiết 2017'!D2 -> 1
B10: 3 | C10: Trung cấp chính quy 1 năm 3 tháng | D10: 13 | E10: ='Chi tiết 2017'!E2 -> 8
B11: 4 | C11: Trung cấp chính quy 1,5 năm | D11: 5 | E11: ='Chi tiết 2017'!F2 -> 2
B12: 5 | C12: Trung cấp chính quy 3 năm | D12: 812 | E12: ='Chi tiết 2017'!G2 -> 608
B13: Tổng cộng | D13: =SUM(D8:D12) -> 1056 | E13: =SUM(E8:E12) -> 708
F14: PHỤ TRÁCH PHÒNG TS-ĐT
F19: Hồ Văn Sĩ

Sheet Chi tiết 2017
C2: =SUM(C4:C110) -> 89 | D2: =SUM(D4:D110) -> 1 | E2: =SUM(E4:E110) -> 8 | F2: =SUM(F4:F110) -> 2 | G2: =SUM(G4:G110) -> 608 | H2: =SUM(C2:G2) -> 708
B3: Ngày | C3: Cao đẳng | D3: Trung cấp 1N | E3: Trung cấp 1N3 | F3: Trung cấp 1,5N | G3: Trung cấp 3N | H3: =N105+N106+N107 -> 0
B4: 42535 | C4: 0 | D4: 0 | E4: 0 | F4: 0 | G4: 6
B5: 42536 | C5: 1 | D5: 0 | E5: 0 | F5: 0 | G5: 39
B6: 42537 | C6: 3 | D6: 0 | E6: 1 | F6: 0 | G6: 16
B7: 42538 | C7: 0 | D7: 0 | E7: 0 | F7: 0 | G7: 3
B8: 42539
B9: 42540 | C9: 5 | D9: 0 | E9: 0 | F9: 0 | G9: 55
B10: 42541 | C10: 0 | D10: 0 | E10: 1 | F10: 0 | G10: 35
B11: 42542
B12: 42543 | C12: 7 | D12: 0 | E12: 0 | F12: 0 | G12: 53
B13: 42544 | C13: 4 | D13: 0 | E13: 0 | F13: 0 | G13: 28
B14: 42545 | C14: 2 | D14: 0 | E14: 0 | F14: 0 | G14: 12
B15: 42546
B16: 42547 | C16: 5 | D16: 0 | E16: 1 | F16: 1 | G16: 37
B17: 42548 | C17: 4 | D17: 0 | E17: 1 | F17: 0 | G17: 23
B18: 42549 | C18: 7 | D18: 0 | E18: 0 | F18: 0 | G18: 30
B19: 42550 | C19: 4 | D19: 0 | E19: 0 | F19: 0 | G19: 23
B20: 42551
B21: 42552 | C21: 11 | D21: 0 | E21: 1 | F21: 1 | G21: 23
B22: 42553
B23: 42554
B24: 42555 | C24: 17 | D24: 0 | E24: 2 | F24: 0 | G24: 100
B25: 42556 | C25: 3 | D25: 0 | E25: 0 | F25: 0 | G25: 39
B26: 42557 | C26: 5 | D26: 0 | E26: 0 | F26: 0 | G26: 47
B27: 42558 | C27: 4 | D27: 0 | E27: 1 | F27: 0 | G27: 31
B28: 42559 | C28: 7 | D28: 1 | E28: 0 | F28: 0 | G28: 8
B29: 42560
B30: 42561
B31: 42562
B32: 42563
B33: 42564
B34: 42565
B35: 42566
B36: 42567
B37: 42568
B38: 42569
B39: 42570
B40: 42571
... B104: 42635
B105: 42636 | I105: CDCN | M105: Đợt 1NH
B106: 42637 | I106: 12+3 | M106: Đợt 2NH
B107: 42638 | I107: 9+4 | M107: Đợt 3NH
B108: 42639 | I108: 9+3
B109: 42640 | I109: 12+2.3
B110: 42641 | I110: 12+2
B111: 42642
B112: 42643
B113: 42644
B114: 42645
B115: 42646
